BEGIN:VCALENDAR
VERSION:2.0
PRODID:-//ExhibitionMatches.com//NONSGML v1.0//EN
BEGIN:VEVENT
UID=32E358D0-C477-E318-64868FE8C3454E7B
DTSTAMP=20260422T220226Z
DTSTART;VALUE=DATE:20260509
DTEND;VALUE=DATE:20260510
SUMMARY:TOF A1A - Melbourne
LOCATION:Melbourne High School, 74 Bulldog Blvd, Melbourne, FL, 32901
DESCRIPTION:View full event details: https://wrestlingtournaments.org/view.cfm?ID=106991
Contact: Aaron Burnley director@a1amelbourne.com
URL;VALUE=URI:https://wrestlingtournaments.org/view.cfm?ID=106991
END:VEVENT
END:VCALENDAR