BEGIN:VCALENDAR
VERSION:2.0
PRODID:-//ExhibitionMatches.com//NONSGML v1.0//EN
BEGIN:VEVENT
UID=32A58F28-F609-7C09-47F84EE4ACEAE6E1
DTSTAMP=20260422T215541Z
DTSTART;VALUE=DATE:20260509
DTEND;VALUE=DATE:20260510
SUMMARY:TOF Grapple Academy
LOCATION:St Johns Country Day School, 3100 Doctors Lake Dr, Orange Park, FL, 32073
DESCRIPTION:View full event details: https://wrestlingtournaments.org/view.cfm?ID=106995
Contact: Hunter Hill hill.hunter2004@gmail.com
URL;VALUE=URI:https://wrestlingtournaments.org/view.cfm?ID=106995
END:VEVENT
END:VCALENDAR