BEGIN:VCALENDAR
VERSION:2.0
PRODID:-//ExhibitionMatches.com//NONSGML v1.0//EN
BEGIN:VEVENT
UID=32A2F342-902A-B969-851F44FAE0E4A69D
DTSTAMP=20260422T215524Z
DTSTART;VALUE=DATE:20260516
DTEND;VALUE=DATE:20260517
SUMMARY:TOF Brandon #2
LOCATION:Brandon High School, 1101 Victoria St, Brandon, FL, 33510
DESCRIPTION:View full event details: https://wrestlingtournaments.org/view.cfm?ID=107007
Contact: Russell Cozart rcozart1@verizon.net
URL;VALUE=URI:https://wrestlingtournaments.org/view.cfm?ID=107007
END:VEVENT
END:VCALENDAR