BEGIN:VCALENDAR
VERSION:2.0
PRODID:-//ExhibitionMatches.com//NONSGML v1.0//EN
BEGIN:VEVENT
UID=32CFEE20-05EE-217C-B7772F9996B23F63
DTSTAMP=20260422T220018Z
DTSTART;VALUE=DATE:20260523
DTEND;VALUE=DATE:20260524
SUMMARY:TOF Mosley
LOCATION:Mosley High School, 501 Mosley Dr, Lynn Haven, FL, 32444
DESCRIPTION:View full event details: https://wrestlingtournaments.org/view.cfm?ID=107018
Contact: Jeremiah LaFountain jeremiah.lafountain@gmail.com
URL;VALUE=URI:https://wrestlingtournaments.org/view.cfm?ID=107018
END:VEVENT
END:VCALENDAR