BEGIN:VCALENDAR
VERSION:2.0
PRODID:-//ExhibitionMatches.com//NONSGML v1.0//EN
BEGIN:VEVENT
UID=32935CE2-E472-AAE7-2E414BB41FFDE9D8
DTSTAMP=20260422T215342Z
DTSTART;VALUE=DATE:20260425
DTEND;VALUE=DATE:20260426
SUMMARY:TOF Cardinal Gibbons #1
LOCATION:Cardinal Gibbons High School, 2900 NE 47th St, Fort Lauderdale, FL, 33308
DESCRIPTION:View full event details: https://wrestlingtournaments.org/view.cfm?ID=107140
Contact: Jamel Morris jmorris1132@gmail.com
URL;VALUE=URI:https://wrestlingtournaments.org/view.cfm?ID=107140
END:VEVENT
END:VCALENDAR