BEGIN:VCALENDAR
VERSION:2.0
PRODID:-//ExhibitionMatches.com//NONSGML v1.0//EN
BEGIN:VEVENT
UID=32B6A5CF-DCA1-AEF5-78CB985E2B674E54
DTSTAMP=20260422T215733Z
DTSTART;VALUE=DATE:20260425
DTEND;VALUE=DATE:20260426
SUMMARY:TOF South Walton
LOCATION:South Walton High School, 645 Greenway Trail, Santa Rosa Beach, FL, 32459
DESCRIPTION:View full event details: https://wrestlingtournaments.org/view.cfm?ID=107143
Contact: Travis Laxton travislaxton6@gmail.com
URL;VALUE=URI:https://wrestlingtournaments.org/view.cfm?ID=107143
END:VEVENT
END:VCALENDAR