BEGIN:VCALENDAR
VERSION:2.0
PRODID:-//ExhibitionMatches.com//NONSGML v1.0//EN
BEGIN:VEVENT
UID=32CDA268-C126-C3AB-5116DE4FCC5B020D
DTSTAMP=20260422T220003Z
DTSTART;VALUE=DATE:20260502
DTEND;VALUE=DATE:20260503
SUMMARY:Grappler in the gardens
LOCATION:Goal Catchers Wrestling, 13460 Northwest 107th Avenue, Hialeah, FL, 33018
DESCRIPTION:View full event details: https://wrestlingtournaments.org/view.cfm?ID=107174

URL;VALUE=URI:https://wrestlingtournaments.org/view.cfm?ID=107174
END:VEVENT
END:VCALENDAR